BEGIN:VCALENDAR
PRODID:-//kirchenweb.ch gmbh//veranstaltungsausgabe v2.0//DE
VERSION:2.0
METHOD:PUBLISH
BEGIN:VEVENT
DTSTART:20260505T091500Z
DTEND:20260505T100000Z
LOCATION:Kirche\, Schönenbergstr. 9\, 8820 Wädenswil
TRANSP:OPAQUE
SEQUENCE:0
UID:48604-veranstaltung@kirche-waedenswil.ch
DTSTAMP:20260421T094649Z
DESCRIPTION:Kontakt: Monika Tiken\, 079 614 11 78‬\n\nWeitere Infos:
  https://www.kirche-waedenswil.ch/veranstaltung/48604
SUMMARY:Probe
PRIORITY:5
X-MICROSOFT-CDO-IMPORTANCE:1
CLASS:PUBLIC
END:VEVENT
END:VCALENDAR
