BEGIN:VCALENDAR
PRODID:-//kirchenweb.ch gmbh//veranstaltungsausgabe v2.0//DE
VERSION:2.0
METHOD:PUBLISH
BEGIN:VEVENT
DTSTART:20260703T071500Z
DTEND:20260703T090000Z
LOCATION:Kirchgemeindehaus Rosenmatt\, Gessnerweg 5\, 8820 Wädenswil
TRANSP:OPAQUE
SEQUENCE:0
UID:48598-veranstaltung@kirche-waedenswil.ch
DTSTAMP:20260417T083441Z
DESCRIPTION:Kontakt: Fabio Reichelt\, 044 783 00 50\n\nWeitere Infos:
  https://www.kirche-waedenswil.ch/veranstaltung/48598
SUMMARY:MeKo-Sitzung
PRIORITY:5
X-MICROSOFT-CDO-IMPORTANCE:1
CLASS:PUBLIC
END:VEVENT
END:VCALENDAR
