BEGIN:VCALENDAR
PRODID:-//kirchenweb.ch gmbh//veranstaltungsausgabe v2.0//DE
VERSION:2.0
METHOD:PUBLISH
BEGIN:VEVENT
DTSTART:20260719T093000Z
DTEND:20260719T101500Z
LOCATION:Kirche\, Schönenbergstr. 9\, 8820 Wädenswil
TRANSP:OPAQUE
SEQUENCE:0
UID:48585-veranstaltung@kirche-waedenswil.ch
DTSTAMP:20260415T075144Z
DESCRIPTION:Kontakt: Pfr. Christian Scharpf\, 078 622 00 28\n\nWeitere
  Infos: https://www.kirche-waedenswil.ch/veranstaltung/48585
SUMMARY:Taufmöglichkeit nach dem Gottesdienst
PRIORITY:5
X-MICROSOFT-CDO-IMPORTANCE:1
CLASS:PUBLIC
END:VEVENT
END:VCALENDAR
