BEGIN:VCALENDAR
PRODID:-//kirchenweb.ch gmbh//veranstaltungsausgabe v2.0//DE
VERSION:2.0
METHOD:PUBLISH
BEGIN:VEVENT
DTSTART:20261025T103000Z
DTEND:20261025T110000Z
LOCATION:Kirche\, Schönenbergstr. 9\, 8820 Wädenswil
TRANSP:OPAQUE
SEQUENCE:0
UID:48581-veranstaltung@kirche-waedenswil.ch
DTSTAMP:20260414T161742Z
DESCRIPTION:In diesem überschaubaren Rahmen können wir die Taufe in
  kleinem\, familiärem Rahmen feiern.\nManchmal kommen ein\, zwei oder
  auch mal drei Familien zusammen.\nMeist lassen Eltern ihre Kinder
  taufen\, aber natürlich können sich auch Jugendliche und Erwachsene
  taufen lassen.\n\nWenn Sie sich überlegen\, diese Gelegenheit zu
  nutzen\, so nehmen Sie doch einfach mal mit mir Kontakt auf:
  https://www.kirche-waedenswil.ch/salome.probst\n079 324 97 79\,
  salome.probst@kirche-waedenswil.ch.\n\n\nKontakt: Pfrn. Salome Probst\,
  079 324 97 79\n\nWeitere Infos:
  https://www.kirche-waedenswil.ch/veranstaltung/48581
SUMMARY:Tauffeier
PRIORITY:5
X-MICROSOFT-CDO-IMPORTANCE:1
CLASS:PUBLIC
END:VEVENT
END:VCALENDAR
