BEGIN:VCALENDAR
PRODID:-//kirchenweb.ch gmbh//veranstaltungsausgabe v2.0//DE
VERSION:2.0
METHOD:PUBLISH
BEGIN:VEVENT
DTSTART:20260708T070000Z
DTEND:20260708T140000Z
LOCATION:Schindellegi-Egg-Chatzenstrick-Gottschälli-plus\, \,
TRANSP:OPAQUE
SEQUENCE:0
UID:48458-veranstaltung@kirche-waedenswil.ch
DTSTAMP:20260324T101354Z
DESCRIPTION:Heute führt uns unser 'Männerschweissler' Hanspeter Saxer
  auf eine wunderschöne grosse E-Bike-Tour. Mit 1150 Höhenmetern
  aufwärts und 47km Distanz werden wir (und unsere Akkus) bestimmt
  ziemlich gefordert werden\, wobei die Route an sich technisch nicht
  besonders anspruchsvoll ist\, ausdauermässig aber schon.\n\nWir werden
  im Restaurant Gottschälli Zmittag essen\, dort kann man auch die Akkus
  ein wenig nachladen.\n\nWie immer: Alle sind für die Fahrtüchtigkeit
  ihrer Velos und für ihre Fahrkünste selbst verantwortlich und zahlen
  allfällige Bussen selber (was bisher noch nie vorgekommen ist).\n
 \nBesammlung:\nca. 0900 Bahnhof Wädi bei Gleis 1\nmit Billet für sich
  und Velo (1/2 Tax) bis Schindellegi.\n\nAbfahrt:\n0910 Gleis 1\n\nWieder
  zuhause:\nSpätestens 1600\n\nAusrüstung:\nFahrtüchtiges Velo
  (Bremsen?! Ersatzschlauch? Ev Ladegerät).\nGenügend Flüssigkeit\, ev.
  ein\, zwei Riegel.\nHelm\, Sonnenbrille\, Sonnenschutz.\nWindschutz für
  Abfahrt\, ev. Bike-Hösli\, Bike-Handschuhe.\nWechselkleider\, falls wir
  nassgeschwitzt sind. \nJe nach Wetter und Lust und Laune Badesachen für
  Sihlsee.\n\nEinen Kartenausschnitt der geplanten Tour findet Ihr unten im
  Album.\n\nAnmelden bitte auch gleich hier unten:\n\n\nKontakt: Pfr. Frank
  Lehmann\, 078 626 00 18\n\nWeitere Infos:
  https://www.kirche-waedenswil.ch/veranstaltung/48458
SUMMARY:Männerschweiss - E-Bike-Tour Chatzenstrick plus
PRIORITY:5
X-MICROSOFT-CDO-IMPORTANCE:1
CLASS:PUBLIC
END:VEVENT
END:VCALENDAR
