BEGIN:VCALENDAR
PRODID:-//kirchenweb.ch gmbh//veranstaltungsausgabe v2.0//DE
VERSION:2.0
METHOD:PUBLISH
BEGIN:VEVENT
DTSTART:20260417T100000Z
DTEND:20260417T120000Z
LOCATION:Kirchgemeindehaus Rosenmatt\, Gessnerweg 5\, 8820 Wädenswil
TRANSP:OPAQUE
SEQUENCE:0
UID:48087-veranstaltung@kirche-waedenswil.ch
DTSTAMP:20260415T102846Z
DESCRIPTION:Kontakt: Petra Fischer\, 044 783 00 52\n\nWeitere Infos:
  https://www.kirche-waedenswil.ch/veranstaltung/48087
SUMMARY:Info-Anlass TN-Bad-Krozingen
PRIORITY:5
X-MICROSOFT-CDO-IMPORTANCE:1
CLASS:PUBLIC
END:VEVENT
END:VCALENDAR
