BEGIN:VCALENDAR
PRODID:-//kirchenweb.ch gmbh//veranstaltungsausgabe v2.0//DE
VERSION:2.0
METHOD:PUBLISH
BEGIN:VEVENT
DTSTART:20261104T130000Z
DTEND:20261104T151500Z
LOCATION:Kirchgemeindehaus Rosenmatt\, Gessnerweg 5\, 8820 Wädenswil
TRANSP:OPAQUE
SEQUENCE:0
UID:47825-veranstaltung@kirche-waedenswil.ch
DTSTAMP:20260127T180716Z
DESCRIPTION:Kontakt: Simone Hauser: 079 889 87 84 \n\nWeitere Infos:
  https://www.kirche-waedenswil.ch/veranstaltung/47825
SUMMARY:Juki - Weihnachtsspiel Proben
PRIORITY:5
X-MICROSOFT-CDO-IMPORTANCE:1
CLASS:PUBLIC
END:VEVENT
END:VCALENDAR
