BEGIN:VCALENDAR
PRODID:-//kirchenweb.ch gmbh//veranstaltungsausgabe v2.0//DE
VERSION:2.0
METHOD:PUBLISH
BEGIN:VEVENT
DTSTART:20260402T070000Z
DTEND:20260402T074500Z
LOCATION:Kirchgemeindehaus Rosenmatt\, Gessnerweg 5\, 8820 Wädenswil
TRANSP:OPAQUE
SEQUENCE:0
UID:47742-veranstaltung@kirche-waedenswil.ch
DTSTAMP:20260401T172854Z
DESCRIPTION:https://www.kirche-waedenswil.ch/kindersingen gehts zur
  Anmeldung\n\nKontakt: Rebekka Gantenbein\, 076 508 86 47‬\n\nWeitere
  Infos: https://www.kirche-waedenswil.ch/veranstaltung/47742
SUMMARY:Singe mit de Chlinschte Gruppe 1-fällt aus
PRIORITY:5
X-MICROSOFT-CDO-IMPORTANCE:1
CLASS:PUBLIC
END:VEVENT
END:VCALENDAR
