BEGIN:VCALENDAR
PRODID:-//kirchenweb.ch gmbh//veranstaltungsausgabe v2.0//DE
VERSION:2.0
METHOD:PUBLISH
BEGIN:VEVENT
DTSTART:20260508T160000Z
DTEND:20260508T180000Z
LOCATION:Kirchgemeindehaus Rosenmatt\, Gessnerweg 5\, 8820 Wädenswil
TRANSP:OPAQUE
SEQUENCE:0
UID:47589-veranstaltung@kirche-waedenswil.ch
DTSTAMP:20260319T111154Z
DESCRIPTION:Kontakt: Pfrn. Salome Probst\, 079 324 97 79\nSimone Hauser\,
  044 783 00 55\n\nWeitere Infos:
  https://www.kirche-waedenswil.ch/veranstaltung/47589
SUMMARY:Elterninfoabend zum kirchlichen Unterricht
PRIORITY:5
X-MICROSOFT-CDO-IMPORTANCE:1
CLASS:PUBLIC
END:VEVENT
END:VCALENDAR
