BEGIN:VCALENDAR
PRODID:-//kirchenweb.ch gmbh//veranstaltungsausgabe v2.0//DE
VERSION:2.0
METHOD:PUBLISH
BEGIN:VEVENT
DTSTART:20260311T143000Z
DTEND:20260311T151500Z
LOCATION:Kirche\, Schönenbergstr. 9\, 8820 Wädenswil
TRANSP:OPAQUE
SEQUENCE:0
UID:47587-veranstaltung@kirche-waedenswil.ch
DTSTAMP:20260106T103307Z
DESCRIPTION:Schnecke hat ein Ziel\nHast du schon mal etwas richtig fest
  gewollt? Vielleicht ein Stück Kuchen? Oder dass dir eine schöne
  Zeichnung gelingt? Oder dass du es schaffst\, Fahrrad zu fahren?
 \nSchnecke möchte auch etwas schampar gerne machen. Sie hat auf der
  anderen Strassenseite etwas entdeckt\, dass sie unglaublich gerne fressen
  würde. Mmh!\nWie schön\, wenn uns das\, was wir uns wünschen\, auch in
  Erfüllung geht! Vielleicht kannst du schon Radfahren und die Zeichnung
  hat einen Spezialplatz am Kühlschrank erhalten. Vermutlich aber ging
  nicht einfach alles schwuppswupps ganz leicht. Beim Zeichnen hast du dir
  Mühe gegeben und beim Radfahren bist du wohl auch einige Male
  umgefallen. Auch Schnecke merkt bei ihrem Vorhaben\, dass nicht alles
  ganz reibungslos und schnurstracks läuft. Aber\, wenn auch auf Umwegen\,
  kommt sie doch zum Ziel!\nSchön\, wenn du mit uns mitfeierst!\n\nFiire
  mit de Chliine\n- eine Feier für die Kleinen mit ihren Bezugspersonen.
  Ältere Kinder sind auch herzlich willkommen!\n- eine spannende
  Geschichte\n- singen\, beten\, feiern\, spielen\, zusammen sein\n- eine
  gute Möglichkeit\, neue Bekanntschaften zu schliessen\n\nTeam\nEine
  Gruppe von Frauen mit guten Ideen\, viel Herzblut und Kreativität: Anita
  Krauss-Breitling\, Andrea Kurzen\, Sabine Grätzer und Pfrn. Salome
  Probst\n\n\nKontakt: Pfrn. Salome Probst\, 079 324 97 79\n\nWeitere
  Infos: https://www.kirche-waedenswil.ch/veranstaltung/47587
SUMMARY:Fiire mit de Chliine
PRIORITY:5
X-MICROSOFT-CDO-IMPORTANCE:1
CLASS:PUBLIC
END:VEVENT
END:VCALENDAR
