BEGIN:VCALENDAR
PRODID:-//kirchenweb.ch gmbh//veranstaltungsausgabe v2.0//DE
VERSION:2.0
METHOD:PUBLISH
BEGIN:VEVENT
DTSTART:20260419T110000Z
DTEND:20260419T150000Z
LOCATION:Altstadtspaziergang mit Francesco in Zürich\, \,
TRANSP:OPAQUE
SEQUENCE:0
UID:47569-veranstaltung@kirche-waedenswil.ch
DTSTAMP:20260409T133016Z
DESCRIPTION:Francesco Gargiulo\, reformiert getaufter Sohn
  neapolitanischer Eltern und gelernter Drucker aus einem Dorf am
  Zürichsee\, war 30 Jahre lang Sigrist am Zürcher Wahrzeichen
  Grossmünster. Das Amt hat er Ende 2022 weitergegeben. Mit einem Kopf
  voller Geschichten und Schlüsseln zu verschiedenen Türen in der Stadt
  führt der ehemalige Sigrist uns durch einen kleinen Teil der Stadt\, den
  er besonders gut kennt. \nWussten Sie\, dass das Grossmünster einen
  Kreuzgang hat? \nKennen Sie die sprechenden Steine?\n\nDatum:		Sonntag\,
  19. April 26\nTreffpunkt:	Bahnhof Wädenswil Brezelkönig\, 13.00 Uhr 
 \nAbfahrt: 	        13.18 Uhr ab Wädenswil\, S2 Richtung Zürich
  Flughafen\, Gleis 2\n\nIn Zürich:	        Tram Zürich HB bis Zürich
  Paradeplatz oder Helmhaus und später zurück \nFührung: 	ca. 14.00 Uhr;
  Dauer 90 Minuten\nZvieri:	        Im Anschluss an die Führung im Café
  Montmartre in Zürich\n\nRückreise:	16.47 Uhr ab Zürich HB\, S2
  Richtung Ziegelbrücke\, Gleis 32\, Ankunft 17.11 Uhr\n	               
  oder \n	                individuelle Rückreise\n\nACHTUNG: aufgrund des
  Kinderumzugs (Sechseläuten) kann es zu zeitlichen Verspätungen kommen\n
 \nKosten: 	        Führung CHF 10 + Konsumation im Café\nBillette:	     
    Wädenswil – Zürich retour bitte selbst lösen\n\n\n\nDieses Angebot
  richtet sich an alle Menschen im Pensionsalter\, die gerne einen Sonntag
  in Gemeinschaft verbringen möchten. \nHerzlich willkommen!\n\n\nKontakt:
  Birgit Ott\, 044 783 00 54\n\nWeitere Infos:
  https://www.kirche-waedenswil.ch/veranstaltung/47569
SUMMARY:Sonntagstreff 19. April 26
PRIORITY:5
X-MICROSOFT-CDO-IMPORTANCE:1
CLASS:PUBLIC
END:VEVENT
END:VCALENDAR
