BEGIN:VCALENDAR
PRODID:-//kirchenweb.ch gmbh//veranstaltungsausgabe v2.0//DE
VERSION:2.0
METHOD:PUBLISH
BEGIN:VEVENT
DTSTART:20260509T080000Z
DTEND:20260509T090000Z
LOCATION:Kirche\, Schönenbergstr. 9\, 8820 Wädenswil
TRANSP:OPAQUE
SEQUENCE:0
UID:47555-veranstaltung@kirche-waedenswil.ch
DTSTAMP:20251219T182751Z
DESCRIPTION:Gemeinsam singen in der Kirche: Weil Singen in der Kirche uns
  verbindet und stärkt. \n\nDies ist ein neues Projekt der drei
  KirchenmusikerInnen – inspiriert durch  ‚enchanté'\, einer
  Initiative für die Förderung des Gemeindegesang der ref.-evang.
  Kirchen.\n\nWir lernen traditionelle und moderne Kirchenlieder kennen\,
  studieren sie mehrstimmig ein\, und werden begleitet von Klavier\, Orgel
  oder Gitarre. Aus alt mach neu: traditionelle Lieder erhalten vielleicht
  einen neuen Rhythmus\, ein neues Kleid. Wir probieren aus und lassen uns
  überraschen. \n\nWir freuen uns auf Sie!\n\n\nKontakt: Fabio Reichelt\,
  044 783 00 50\n\nWeitere Infos:
  https://www.kirche-waedenswil.ch/veranstaltung/47555
SUMMARY:Sing mit! Let's sing!
PRIORITY:5
X-MICROSOFT-CDO-IMPORTANCE:1
CLASS:PUBLIC
END:VEVENT
END:VCALENDAR
