BEGIN:VCALENDAR
PRODID:-//kirchenweb.ch gmbh//veranstaltungsausgabe v2.0//DE
VERSION:2.0
METHOD:PUBLISH
BEGIN:VEVENT
DTSTART:20260519T170000Z
DTEND:20260519T183000Z
LOCATION:Kirchgemeindehaus Rosenmatt\, Gessnerweg 5\, 8820 Wädenswil
TRANSP:OPAQUE
SEQUENCE:0
UID:47550-veranstaltung@kirche-waedenswil.ch
DTSTAMP:20251218T120217Z
DESCRIPTION:Kontakt: Monika Tiken\, 079 614 11 78‬\n\nWeitere Infos:
  https://www.kirche-waedenswil.ch/veranstaltung/47550
SUMMARY:Probe Zürisee Stubete
PRIORITY:5
X-MICROSOFT-CDO-IMPORTANCE:1
CLASS:PUBLIC
END:VEVENT
END:VCALENDAR
