BEGIN:VCALENDAR
PRODID:-//kirchenweb.ch gmbh//veranstaltungsausgabe v2.0//DE
VERSION:2.0
METHOD:PUBLISH
BEGIN:VEVENT
DTSTART:20260926T180000Z
DTEND:20260926T190000Z
LOCATION:Kirche\, Schönenbergstr. 9\, 8820 Wädenswil
TRANSP:OPAQUE
SEQUENCE:0
UID:47510-veranstaltung@kirche-waedenswil.ch
DTSTAMP:20251217T135621Z
DESCRIPTION:Nach dem Anlass sind Sie herzliche zum Apéro eingeladen. Er
  findet vor oder in der Kirche statt.\n\nKontakt: Esther Mantel\, 079 660
  51 68‬\n\nWeitere Infos:
  https://www.kirche-waedenswil.ch/veranstaltung/47510
SUMMARY:Apéro nach Rainer Maria Rilke Anlass
PRIORITY:5
X-MICROSOFT-CDO-IMPORTANCE:1
CLASS:PUBLIC
END:VEVENT
END:VCALENDAR
