BEGIN:VCALENDAR
PRODID:-//kirchenweb.ch gmbh//veranstaltungsausgabe v2.0//DE
VERSION:2.0
METHOD:PUBLISH
BEGIN:VEVENT
DTSTART:20260301T103000Z
DTEND:20260301T110000Z
LOCATION:Kirche\, Schönenbergstr. 9\, 8820 Wädenswil
TRANSP:OPAQUE
SEQUENCE:0
UID:47505-veranstaltung@kirche-waedenswil.ch
DTSTAMP:20260218T162924Z
DESCRIPTION:Taufe von Eliano Volkart\n\nKontakt: Pfrn. Undine Gellner\,
  044 680 41 48\n\nWeitere Infos:
  https://www.kirche-waedenswil.ch/veranstaltung/47505
SUMMARY:Taufe nach dem Gottesdienst
PRIORITY:5
X-MICROSOFT-CDO-IMPORTANCE:1
CLASS:PUBLIC
END:VEVENT
END:VCALENDAR
