BEGIN:VCALENDAR
PRODID:-//kirchenweb.ch gmbh//veranstaltungsausgabe v2.0//DE
VERSION:2.0
METHOD:PUBLISH
BEGIN:VEVENT
DTSTART:20260609T164500Z
DTEND:20260609T174500Z
LOCATION:Kirchgemeindehaus Rosenmatt\, Gessnerweg 5\, 8820 Wädenswil
TRANSP:OPAQUE
SEQUENCE:0
UID:47489-veranstaltung@kirche-waedenswil.ch
DTSTAMP:20260117T160330Z
DESCRIPTION:Sie sind herzlich zur Kirchgemeindeversammlung im
  Kirchgemeindehaus eingeladen.\nDie Traktanden finden Sie unter
  https://www.kirche-waedenswil.ch/amtlichepublikationen.\n\nEbenfalls
  herzliche Einladung zum Apéro ab 18.45.\n\n\n\nKontakt: Urs Hanselmann\,
  061 311 14 12\n\nWeitere Infos:
  https://www.kirche-waedenswil.ch/veranstaltung/47489
SUMMARY:Kirchgemeindeversammlung mit Apéro
PRIORITY:5
X-MICROSOFT-CDO-IMPORTANCE:1
CLASS:PUBLIC
END:VEVENT
END:VCALENDAR
