BEGIN:VCALENDAR
PRODID:-//kirchenweb.ch gmbh//veranstaltungsausgabe v2.0//DE
VERSION:2.0
METHOD:PUBLISH
BEGIN:VEVENT
DTSTART:20260926T170000Z
DTEND:20260926T180000Z
LOCATION:Kirche\, Schönenbergstr. 9\, 8820 Wädenswil
TRANSP:OPAQUE
SEQUENCE:0
UID:47487-veranstaltung@kirche-waedenswil.ch
DTSTAMP:20251220T205305Z
DESCRIPTION:Wir begehen in diesem Jahr ein besonderes Jubiläumen: \nden
  100. Todestag von Rainer Maria Rilke.\n\nUnsere Gegenwart ist von
  Unsicherheiten\, Konflikten und Spannungen geprägt. Umso deutlicher
  spüren viele Menschen das Bedürfnis nach innerem Halt\, Trost und
  Wärme. Rilke war ein Dichter\, der diese Sehnsucht sprachlich zu fassen
  wusste. Er war ein Suchender nach dem Göttlichen und nach dem\, was
  Menschen bewegt und trägt. \nGott verstand er nicht als fernes Prinzip\,
  sondern als eine Wirklichkeit\, die sich im Leben zeigt – in Wegen\,
  die sich eröffnen\, in Begegnungen\, im Wandel und Wachstum. \nSeine
  Texte zeugen von einer offenen\, undogmatischen Spiritualität\, die
  Glauben nicht als Pflicht versteht\, sondern als etwas\, das sich auf dem
  eigenen Lebensweg entfaltet.\n\nHeute Abend hören wir einige seiner
  Gedichte sowie ausgewählte Briefstellen\, gelesen von Stefan Gubser\,
  den Sie aus zahlreichen Kino- und Fernsehproduktionen kennen.\n
 \nChristian Gutfleisch am Piano\nGianni Narduzzi am Bass\nSebastian Zebe
  am Saxophon.\n\n\nKontakt: Monika Tiken\, 079 614 11 78‬\n\nWeitere
  Infos: https://www.kirche-waedenswil.ch/veranstaltung/47487
SUMMARY:Rainer Maria Rilke
PRIORITY:5
X-MICROSOFT-CDO-IMPORTANCE:1
CLASS:PUBLIC
END:VEVENT
END:VCALENDAR
