BEGIN:VCALENDAR
PRODID:-//kirchenweb.ch gmbh//veranstaltungsausgabe v2.0//DE
VERSION:2.0
METHOD:PUBLISH
BEGIN:VEVENT
DTSTART:20260620T040000Z
DTEND:20260620T100000Z
LOCATION:Unterwegs\, \,
TRANSP:OPAQUE
SEQUENCE:0
UID:47486-veranstaltung@kirche-waedenswil.ch
DTSTAMP:20251211T162851Z
DESCRIPTION:Von der Sattelegg aus sind es etwa 450 Höhenmeter\, die uns
  auf den 'Chli Aubrig' führen. Von dort haben wir eine sensationelle
  Aussicht und bestimmt einen extrem feinen Znüni!\nDetail-Infos folgen.
  Allenfalls Wanderstöcke mitnehmen. \n\nVon Wädenswil zur Sattelegg
  brauchen wir Auto-Fahrer\, welche den ein oder andern mitnehmen.
 \nAnmelden mit untenstehendem Formular.\n\nKontakt: Pfr. Frank Lehmann\,
  078 626 00 18\n\nWeitere Infos:
  https://www.kirche-waedenswil.ch/veranstaltung/47486
SUMMARY:Männerschweiss - Bergtüürli 'Chli Aubrig'
PRIORITY:5
X-MICROSOFT-CDO-IMPORTANCE:1
CLASS:PUBLIC
END:VEVENT
END:VCALENDAR
