BEGIN:VCALENDAR
PRODID:-//kirchenweb.ch gmbh//veranstaltungsausgabe v2.0//DE
VERSION:2.0
METHOD:PUBLISH
BEGIN:VEVENT
DTSTART:20260506T150000Z
DTEND:20260506T180000Z
LOCATION:Rund um Wädenswil\, \,
TRANSP:OPAQUE
SEQUENCE:0
UID:47484-veranstaltung@kirche-waedenswil.ch
DTSTAMP:20260415T124802Z
DESCRIPTION:Mit unsern E-Bikes sind wir rund um Wädenswil\,
  Schönenberg\, Hirzel\, Horgenberg unterwegs. \nDu brauchst kein
  Mountain-Bike\, einfach auf Schotterstrassen sollte man damit fahren
  können.\n\nAnmeldung bitte mit Formular gleich hier unten.\n\nMehr Infos
  rund um https://www.kirche-waedenswil.ch/maennerschweiss\n\n\n\nKontakt:
  Pfr. Frank Lehmann\, 078 626 00 18\n\nWeitere Infos:
  https://www.kirche-waedenswil.ch/veranstaltung/47484
SUMMARY:Männerschweiss - E-Bike-Frühlingsfährtli
PRIORITY:5
X-MICROSOFT-CDO-IMPORTANCE:1
CLASS:PUBLIC
END:VEVENT
END:VCALENDAR
