BEGIN:VCALENDAR
PRODID:-//kirchenweb.ch gmbh//veranstaltungsausgabe v2.0//DE
VERSION:2.0
METHOD:PUBLISH
BEGIN:VEVENT
DTSTART:20260417T130000Z
DTEND:20260417T180000Z
LOCATION:Biberbrugg-Morgarten-Raten-Gottschälli\, \,
TRANSP:OPAQUE
SEQUENCE:0
UID:47483-veranstaltung@kirche-waedenswil.ch
DTSTAMP:20260414T061216Z
DESCRIPTION:Heute wird uns unser 'Männerschweissler' und Tourenleiter
  Christian Messerli auf wunderschöne Pfade führen. Technisch nicht
  anspruchsvoll\, kann aber sein\, dass der Akku ein wenig an die Grenzen
  kommt\, wenn man kaum selber strampelt. Die Höhendifferenz ist mit plus
  760m allerdings 100m geringer als bei der Pfannenstiltour. \nWie immer:
  Alle sind für die Fahrtüchtigkeit ihres Velos selber verantwortlich und
  zahlen allfällige Bussen selber (gab bisher noch nie welche).\n
 \nBesammlung etwa um 15 Uhr beim Bahnhof Wädenswil beim Gleis 1.\nBillet
  für sich selbst und für Velo (1/2 Tax) bis Biberbrugg.\n\nAbfahrt 15.10
  Gleis 1.\n\nAusrüstung: \nWetterbericht beachten :-) \nKleider zum
  Wechseln\, falls man geschwitzt hat. \nWindschutz für lange Abfahrten. 
 \nGenügend Flüssigkeit - gibt allerdings auch Brunnen. \nFür Neulinge:
  Ich persönlich habe immer gern eine Windschutz-Brille\, Velohandschuhe
  und Fudipolsterhösli.\nWichtig:\nÜppiges Znacht-Picknick: Wir werden
  beim Aussichtspunkt beim Gottschalkenberg picknicken.\n\nKartenausschnitt
  mit Route findet Ihr hier unten im 'Album' oder vielleicht auch dauerhaft
  https://schweizmobil.ch/de/tour/1866007320?layers=mtbland%2CtrackLayer&E=
 2694351&N=1224608&resolution=10.28&bgLayer=pk&detours=yes&shooting=yes&log
 os=no&photos=no&season=summer\n\nAnmeldung bitte mit Formular gleich hier
  unten.\n\nMehr Infos rund um
  https://www.kirche-waedenswil.ch/maennerschweiss\n\n\n\nKontakt: Pfr.
  Frank Lehmann\, 078 626 00 18\n\nWeitere Infos:
  https://www.kirche-waedenswil.ch/veranstaltung/47483
SUMMARY:Männerschweiss - E-Bike-Frühlingstour
PRIORITY:5
X-MICROSOFT-CDO-IMPORTANCE:1
CLASS:PUBLIC
END:VEVENT
END:VCALENDAR
