BEGIN:VCALENDAR
PRODID:-//kirchenweb.ch gmbh//veranstaltungsausgabe v2.0//DE
VERSION:2.0
METHOD:PUBLISH
BEGIN:VEVENT
DTSTART:20260127T170000Z
DTEND:20260127T203000Z
LOCATION:Unterwegs\, \,
TRANSP:OPAQUE
SEQUENCE:0
UID:47481-veranstaltung@kirche-waedenswil.ch
DTSTAMP:20260127T083836Z
DESCRIPTION:Wir machen einen Abendspaziergang (etwa eine Stunde) von
  Wädenswil-Feld nach Schönenberg und landen dann in der Cheminée-Stube.
  Dort spielen wir ein paar Partien 'Brändy-Dog'. Wer das (super-lässige)
  Spiel noch nicht kennt\, wird liebevoll in einer Anfängergruppe
  angeleitet :-) Natürlich gibt es auch was zu trinken und zu knabbern.\n
 \nStart: 1815 Uhr im Bus 160\, Kante D - Billet Ortstarif selber lösen.\n
 \nKontakt: Pfr. Frank Lehmann\, 078 626 00 18\n\nWeitere Infos:
  https://www.kirche-waedenswil.ch/veranstaltung/47481
SUMMARY:Männerschweiss - Abendspaziergang und Brändi-Dog
PRIORITY:5
X-MICROSOFT-CDO-IMPORTANCE:1
CLASS:PUBLIC
END:VEVENT
END:VCALENDAR
