BEGIN:VCALENDAR
PRODID:-//kirchenweb.ch gmbh//veranstaltungsausgabe v2.0//DE
VERSION:2.0
METHOD:PUBLISH
BEGIN:VEVENT
DTSTART:20260604T060000Z
DTEND:20260604T110000Z
LOCATION:Draussen\, \,
TRANSP:OPAQUE
SEQUENCE:0
UID:47480-veranstaltung@kirche-waedenswil.ch
DTSTAMP:20251211T160718Z
DESCRIPTION:Um 0800 starten wir mit dem Zug via Pfäffikon nach
  Rapperswil. \nDann geht es durch sehr abwechslungsreiche und
  wunderschöne Gegenden via Lützelsee\, Hochwacht\, Küsnachtertobel und
  schliesslich Wehrenbachtobel direkt zum Balgrist und zuletzt ans
  Bellevue. Je nach Lust und Temperatur gönnt man sich dann ein Glace\,
  fährt mit Schiff\, Zug oder Velo heim.\n\nVerpflegung unterwegs.
  Endzeitangabe ist so ungefähr. \n\nEine Tour\, die sich immer wieder
  lohnt - technisch nur auf sehr kurzen Passagen etwas anspruchsvoll\, aber
  da kann man gut auch mal schieben\, kein Problem.\n\nKontakt: Pfr. Frank
  Lehmann\, 078 626 00 18\n\nWeitere Infos:
  https://www.kirche-waedenswil.ch/veranstaltung/47480
SUMMARY:Männerschweiss - E-Bike 'Monte Pfanno'
PRIORITY:5
X-MICROSOFT-CDO-IMPORTANCE:1
CLASS:PUBLIC
END:VEVENT
END:VCALENDAR
