BEGIN:VCALENDAR
PRODID:-//kirchenweb.ch gmbh//veranstaltungsausgabe v2.0//DE
VERSION:2.0
METHOD:PUBLISH
BEGIN:VEVENT
DTSTART:20261026T180000Z
DTEND:20261026T190000Z
LOCATION:Kirchgemeindehaus Rosenmatt\, Gessnerweg 5\, 8820 Wädenswil
TRANSP:OPAQUE
SEQUENCE:0
UID:47459-veranstaltung@kirche-waedenswil.ch
DTSTAMP:20251210T150707Z
DESCRIPTION:Einfach dasein - Atmen - Ganz im Moment - In der Stille - In
  Bewegung - Ein Wort hören - Ein Gebet - Gesegnet in die Nacht gehen\n
 \nJeweils montags von 19-20 Uhr\nOktober bis März im Kirchgemeindehaus 2.
  Stock\nApril-September in der Kirche\n\nHERZLICH WILLKOMMEN\nUrsula
  Burnand\, Sabine Walt und Pfr. Erich Bosshard\n\nKontakt: Pfr. Erich
  Bosshard-Nepustil\, 079 530 40 24\n\nWeitere Infos:
  https://www.kirche-waedenswil.ch/veranstaltung/47459
SUMMARY:Meditation am Montag
PRIORITY:5
X-MICROSOFT-CDO-IMPORTANCE:1
CLASS:PUBLIC
END:VEVENT
END:VCALENDAR
