BEGIN:VCALENDAR
PRODID:-//kirchenweb.ch gmbh//veranstaltungsausgabe v2.0//DE
VERSION:2.0
METHOD:PUBLISH
BEGIN:VEVENT
DTSTART:20260310T180000Z
DTEND:20260310T193000Z
LOCATION:Kirchgemeindehaus Rosenmatt\, Gessnerweg 5\, 8820 Wädenswil
TRANSP:OPAQUE
SEQUENCE:0
UID:47433-veranstaltung@kirche-waedenswil.ch
DTSTAMP:20251209T211905Z
DESCRIPTION:Manchmal mag man ein Buch nicht einfach allein lesen\, sondern
  würde gerne noch mit anderen darüber reden. \nManchmal finden sich in
  Romanen Denkanstösse\, die auch für Glaubensfragen interessant sind.
 \nUnd Interessierte können sich gegenseitig Lesetipps geben und alle
  können neue literarische Welten entdecken. \n\nIn dieser Gruppe soll
  dies alles möglich sein. Treffen sind ca. alle sechs Wochen geplant. \n
 \n\nKontakt: Pfrn. Undine Gellner\, 044 680 41 48\n\nWeitere Infos:
  https://www.kirche-waedenswil.ch/veranstaltung/47433
SUMMARY:Lesezirkel
PRIORITY:5
X-MICROSOFT-CDO-IMPORTANCE:1
CLASS:PUBLIC
END:VEVENT
END:VCALENDAR
