BEGIN:VCALENDAR
PRODID:-//kirchenweb.ch gmbh//veranstaltungsausgabe v2.0//DE
VERSION:2.0
METHOD:PUBLISH
BEGIN:VEVENT
DTSTART:20260420T120000Z
DTEND:20260420T133000Z
LOCATION:Kirchgemeindehaus Rosenmatt\, Gessnerweg 5\, 8820 Wädenswil
TRANSP:OPAQUE
SEQUENCE:0
UID:47421-veranstaltung@kirche-waedenswil.ch
DTSTAMP:20251208T044825Z
DESCRIPTION:Christsein ist heute keine Selbstverständlichkeit mehr.
  Vielen Menschen geht das Wissen um die christlichen Glaubensgrundlagen
  verloren – oder sie können manches nicht verstehen und haben Fragen.
 \nIn der Gesprächsreihe geht es um grundlegende Glaubensfragen: \nWas ist
  das Zentrale im Christentum? Wie kann ich mir Gott vorstellen? Wer war
  Jesus und was ist seine Bedeutung? Wie gehen wir mit den biblischen
  Texten um? Was bedeuten christliche Rituale und Feiertage? Was gibt
  Hoffnung? Wie kann ich ein gutes Leben führen? \nDie Reihe ist geeignet
  für alle\, die Fragen zum Thema Glauben haben und sich mit anderen
  darüber austauschen wollen. Die jeweiligen Themen richten sich nach den
  Fragen und Interessen der Teilnehmenden. \n\n\nKontakt: Pfrn. Undine
  Gellner\, 044 680 41 48\n\nWeitere Infos:
  https://www.kirche-waedenswil.ch/veranstaltung/47421
SUMMARY:Theologische Gesprächsreihe
PRIORITY:5
X-MICROSOFT-CDO-IMPORTANCE:1
CLASS:PUBLIC
END:VEVENT
END:VCALENDAR
