BEGIN:VCALENDAR
PRODID:-//kirchenweb.ch gmbh//veranstaltungsausgabe v2.0//DE
VERSION:2.0
METHOD:PUBLISH
BEGIN:VEVENT
DTSTART:20260207T080000Z
DTEND:20260207T100000Z
LOCATION:Box-Club Wädenswil\, Einsiedlerstrasse 13a\, 8820 Wädenswil
TRANSP:OPAQUE
SEQUENCE:0
UID:47407-veranstaltung@kirche-waedenswil.ch
DTSTAMP:20260212T121528Z
DESCRIPTION:Juchhee! Wir steigen in den Ring. \nVielleicht geht es dir wie
  uns und du hast so gar keine Ahnung vom Boxen\, aber Lust\, diese
  Sportart kennenzulernen. Zumindest "es bitzeli". \nWir freuen uns auf
  alle Fälle riesig\, dass wir mit Marzia Montuori und Sandro Iselin zwei
  Menschen gefunden haben\, die uns diesen Wunsch ermöglichen und uns ein
  wenig an die Hand bzw. in die sanfte Mangel nehmen.\nWir treffen uns
  gleich beim Box-Club. Bis dänn!\n\nMitnehmen:\nSportkleidung\,
  Turnschuhe\, Trinkflasche\n\nKosten:\n20.- (der Restbetrag wird von der
  Kirchgemeinde gesponsort). \nDie Anmeldung ist gültig mit der
  Überweisung des Betrags\nvia Twint auf 079 324 97 79 oder IBAN CH76 0900
  0000 3123 1588 6.\nBei einer Abmeldung bis spätestens 31. Januar wird
  der Betrag zurück erstattet.\n\nBitte melde dich gleich unten an!\nBis
  gliiiiiiiii!\n\nKontakt: Pfrn. Salome Probst\, 079 324 97 79\n\nWeitere
  Infos: https://www.kirche-waedenswil.ch/veranstaltung/47407
SUMMARY:Frauegrüppli - Ab in Ring
PRIORITY:5
X-MICROSOFT-CDO-IMPORTANCE:1
CLASS:PUBLIC
END:VEVENT
END:VCALENDAR
