BEGIN:VCALENDAR
PRODID:-//kirchenweb.ch gmbh//veranstaltungsausgabe v2.0//DE
VERSION:2.0
METHOD:PUBLISH
BEGIN:VEVENT
DTSTART:20261107T083000Z
DTEND:20261107T100000Z
LOCATION:Kirchgemeindehaus Rosenmatt\, Gessnerweg 5\, 8820 Wädenswil
TRANSP:OPAQUE
SEQUENCE:0
UID:47383-veranstaltung@kirche-waedenswil.ch
DTSTAMP:20251212T083645Z
DESCRIPTION:Thema: Wie gelingt Kommunikation mit meinen Kindern?\n\nText:
  Im Familienalltag prallen die unterschiedlichen Wünsche und Bedürfnisse
  der verschiedenen Familienmitglieder aufeinander und ehe wir uns
  versehen\, geraten wir in eine hitzige Diskussion. Was es in der
  Kommunikation mit Kindern zu beachten gilt\, schauen wir uns am Samstag\,
  07.11.26 an. \n\nKontakt: Pfrn. Undine Gellner\, 044 680 41 48\n\nWeitere
  Infos: https://www.kirche-waedenswil.ch/veranstaltung/47383
SUMMARY:Elternkurs "Familienstärker"
PRIORITY:5
X-MICROSOFT-CDO-IMPORTANCE:1
CLASS:PUBLIC
END:VEVENT
END:VCALENDAR
