BEGIN:VCALENDAR
PRODID:-//kirchenweb.ch gmbh//veranstaltungsausgabe v2.0//DE
VERSION:2.0
METHOD:PUBLISH
BEGIN:VEVENT
DTSTART:20260606T073000Z
DTEND:20260606T090000Z
LOCATION:Kirchgemeindehaus Rosenmatt\, Gessnerweg 5\, 8820 Wädenswil
TRANSP:OPAQUE
SEQUENCE:0
UID:47381-veranstaltung@kirche-waedenswil.ch
DTSTAMP:20251212T083512Z
DESCRIPTION:Thema: Wie du mir so ich dir\n\nDamit ein respektvoller Umgang
  in der Familie gelingt\, ist es wichtig das sich alle Familienmitglieder
  daran halten. Doch manchmal haben Kinder die falsche Vorstellung\, wie
  sie Teil der Familie werden. Die Kinder denken durch Vergeltung ihren
  Platz sichern zu können. Am Samstag\, 06.06.26 setzen wir uns mit dem
  Thema: «Ein respektvoller Umgang in der Familie» auseinander. .\n
 \nKontakt: Pfrn. Undine Gellner\, 044 680 41 48\n\nWeitere Infos:
  https://www.kirche-waedenswil.ch/veranstaltung/47381
SUMMARY:Elternkurs "Familienstärker"
PRIORITY:5
X-MICROSOFT-CDO-IMPORTANCE:1
CLASS:PUBLIC
END:VEVENT
END:VCALENDAR
