BEGIN:VCALENDAR
PRODID:-//kirchenweb.ch gmbh//veranstaltungsausgabe v2.0//DE
VERSION:2.0
METHOD:PUBLISH
BEGIN:VEVENT
DTSTART:20260116T183000Z
DTEND:20260116T193000Z
LOCATION:Evangelisch-methodistische Kirche\, Rosenbergstr. 4\, 8820
  Wädenswil
TRANSP:OPAQUE
SEQUENCE:0
UID:47356-veranstaltung@kirche-waedenswil.ch
DTSTAMP:20251126T122028Z
DESCRIPTION:Verschiedene christliche Gemeinden in Wädenswil laden zu
  Gebetsabenden für die Einheit der Christen ein. Eine Gelegenheit\,
  einander zu besuchen\, gemeinsam zu beten und sich auszutauschen. An
  jedem Abend der Woche gibt es einen Anlass. Am Sonntag 18.1. feiern wir
  dann gemeinsam einen Gottesdienst in der katholischen Kirche.
  Anschliessend sind alle zu einem Suppenessen im Etzelsaal eingeladen.
 \nFreitag\, 16.1. Drei Kirchen laden ein: Evangelisch-methodistische
  Kirche\, Pfingstgemeinde und Reformierte Kirche. \n\nKontakt: Pfrn.
  Undine Gellner\, 044 680 41 48\n\nWeitere Infos:
  https://www.kirche-waedenswil.ch/veranstaltung/47356
SUMMARY:Gebetswoche für die Einheit der Christen
PRIORITY:5
X-MICROSOFT-CDO-IMPORTANCE:1
CLASS:PUBLIC
END:VEVENT
END:VCALENDAR
