BEGIN:VCALENDAR
PRODID:-//kirchenweb.ch gmbh//veranstaltungsausgabe v2.0//DE
VERSION:2.0
METHOD:PUBLISH
BEGIN:VEVENT
DTSTART:20261115T103000Z
DTEND:20261115T113000Z
LOCATION:Kirche\, Schönenbergstr. 9\, 8820 Wädenswil
TRANSP:OPAQUE
SEQUENCE:0
UID:47302-veranstaltung@kirche-waedenswil.ch
DTSTAMP:20251116T155321Z
DESCRIPTION:Kontakt: Esther Mantel\, 079 660 51 68‬\n\nWeitere Infos:
  https://www.kirche-waedenswil.ch/veranstaltung/47302
SUMMARY:?? Snack nach der Family Church
PRIORITY:5
X-MICROSOFT-CDO-IMPORTANCE:1
CLASS:PUBLIC
END:VEVENT
END:VCALENDAR
