BEGIN:VCALENDAR
PRODID:-//kirchenweb.ch gmbh//veranstaltungsausgabe v2.0//DE
VERSION:2.0
METHOD:PUBLISH
BEGIN:VEVENT
DTSTART:20260906T090000Z
DTEND:20260906T100000Z
LOCATION:Rosenhofpark\, Gessnerweg 5\, 8820 Wädenswil
TRANSP:OPAQUE
SEQUENCE:0
UID:47299-veranstaltung@kirche-waedenswil.ch
DTSTAMP:20251116T154325Z
DESCRIPTION:Nach dem Tauf-Gottesdienst im Rosenhofpark sind Sie herzlich
  zu einem Apéro an der WunderBar eingeladen.\nEr findet je nach Wetter im
  Rosenhofpark oder in der Kirche statt.\n\nKontakt: Esther Mantel\, 079
  660 51 68‬\n\nWeitere Infos:
  https://www.kirche-waedenswil.ch/veranstaltung/47299
SUMMARY:Apero an der WunderBar nach Tauf-Gottesdienst im Rosenhofpark
PRIORITY:5
X-MICROSOFT-CDO-IMPORTANCE:1
CLASS:PUBLIC
END:VEVENT
END:VCALENDAR
