BEGIN:VCALENDAR
PRODID:-//kirchenweb.ch gmbh//veranstaltungsausgabe v2.0//DE
VERSION:2.0
METHOD:PUBLISH
BEGIN:VEVENT
DTSTART:20260412T090000Z
DTEND:20260412T100000Z
LOCATION:Kirche\, Schönenbergstr. 9\, 8820 Wädenswil
TRANSP:OPAQUE
SEQUENCE:0
UID:47296-veranstaltung@kirche-waedenswil.ch
DTSTAMP:20260314T155426Z
DESCRIPTION:Nach dem Gottesdienst findet ein Apéro an der WunderBar
  statt\, möglichst vor der Kirche. Sie sind herzlich dazu eingeladen.\n
 \nKontakt: Esther Mantel\n\nWeitere Infos:
  https://www.kirche-waedenswil.ch/veranstaltung/47296
SUMMARY:Apéro an der WunderBar nach Jazz-Gottesdienst
PRIORITY:5
X-MICROSOFT-CDO-IMPORTANCE:1
CLASS:PUBLIC
END:VEVENT
END:VCALENDAR
