BEGIN:VCALENDAR
PRODID:-//kirchenweb.ch gmbh//veranstaltungsausgabe v2.0//DE
VERSION:2.0
METHOD:PUBLISH
BEGIN:VEVENT
DTSTART:20260927T090000Z
DTEND:20260927T100000Z
LOCATION:Kirche\, \,
TRANSP:OPAQUE
SEQUENCE:0
UID:47239-veranstaltung@kirche-waedenswil.ch
DTSTAMP:20251116T120959Z
DESCRIPTION:Nach dem Erntedank-Gottesdienst sind Sie herzlich zum Apéro
  eingeladen.\nJe nach Wetter findet er vor der Kirche oder im
  Kirchgemeindehaus statt.\n\nKontakt: Esther Mantel\, 079 660 51 68‬\n
 \nWeitere Infos: https://www.kirche-waedenswil.ch/veranstaltung/47239
SUMMARY:Apéro nach dem Erntedank-Gottesdienst
PRIORITY:5
X-MICROSOFT-CDO-IMPORTANCE:1
CLASS:PUBLIC
END:VEVENT
END:VCALENDAR
