BEGIN:VCALENDAR
PRODID:-//kirchenweb.ch gmbh//veranstaltungsausgabe v2.0//DE
VERSION:2.0
METHOD:PUBLISH
BEGIN:VEVENT
DTSTART:20260705T093000Z
DTEND:20260705T113000Z
LOCATION:Rosenhofpark\, Gessnerweg 5\, 8820 Wädenswil
TRANSP:OPAQUE
SEQUENCE:0
UID:47234-veranstaltung@kirche-waedenswil.ch
DTSTAMP:20260313T131344Z
DESCRIPTION:Kontakt: Esther Mantel\, 079 660 51 68‬\n\nWeitere Infos:
  https://www.kirche-waedenswil.ch/veranstaltung/47234
SUMMARY:Teilete - Grill und Salate nach dem ökum. Gottesdienst
PRIORITY:5
X-MICROSOFT-CDO-IMPORTANCE:1
CLASS:PUBLIC
END:VEVENT
END:VCALENDAR
