BEGIN:VCALENDAR
PRODID:-//kirchenweb.ch gmbh//veranstaltungsausgabe v2.0//DE
VERSION:2.0
METHOD:PUBLISH
BEGIN:VEVENT
DTSTART:20260510T160000Z
DTEND:20260510T180000Z
LOCATION:Rosenmattpark\, Gessnerweg 5\, 8820 Wädenswil
TRANSP:OPAQUE
SEQUENCE:0
UID:47231-veranstaltung@kirche-waedenswil.ch
DTSTAMP:20260121T143453Z
DESCRIPTION:Kontakt: Esther Mantel\, 079 660 51 68‬\n\nWeitere Infos:
  https://www.kirche-waedenswil.ch/veranstaltung/47231
SUMMARY:Teilete / Zäme Ässe nach der Family Church
PRIORITY:5
X-MICROSOFT-CDO-IMPORTANCE:1
CLASS:PUBLIC
END:VEVENT
END:VCALENDAR
