BEGIN:VCALENDAR
PRODID:-//kirchenweb.ch gmbh//veranstaltungsausgabe v2.0//DE
VERSION:2.0
METHOD:PUBLISH
BEGIN:VEVENT
DTSTART:20260418T120000Z
DTEND:20260418T130000Z
LOCATION:Kirche\, Schönenbergstr. 9\, 8820 Wädenswil
TRANSP:OPAQUE
SEQUENCE:0
UID:47088-veranstaltung@kirche-waedenswil.ch
DTSTAMP:20260205T180424Z
DESCRIPTION:Kontakt: Pfr. Frank Lehmann\, 078 626 00 18\n\nWeitere Infos:
  https://www.kirche-waedenswil.ch/veranstaltung/47088
SUMMARY:Trauung Martina und Heinz Pfister-Hüppi
PRIORITY:5
X-MICROSOFT-CDO-IMPORTANCE:1
CLASS:PUBLIC
END:VEVENT
END:VCALENDAR
