BEGIN:VCALENDAR
PRODID:-//kirchenweb.ch gmbh//veranstaltungsausgabe v2.0//DE
VERSION:2.0
METHOD:PUBLISH
BEGIN:VEVENT
DTSTART:20260105T180000Z
DTEND:20260105T193000Z
LOCATION:Kirchgemeindehaus Rosenmatt\, Gessnerweg 5\, 8820 Wädenswil
TRANSP:OPAQUE
SEQUENCE:0
UID:47039-veranstaltung@kirche-waedenswil.ch
DTSTAMP:20251022T074520Z
DESCRIPTION:Erwachsene\nDiakonie und Seelsorge\nMusik und Chöre
 \nthumbnail_SH_neu (Foto: Simone Hauser Hutmacher)\nVerantwortlich für
  diese Seite: Simone Hauser Hutmacher\nBereitgestellt: 11.07.2024
 \nStreetdance - "roundabout"\nTanz\nW&auml;di (Foto: Yasemin de Filippis )
 \nStreetdance in Wädenswil für Mädchen und junge Frauen\nWir sind
  Partnerorganisation der Tanzgruppe «roundabout».\nSeit September 2023
  gibt es dieses Angebot bei uns im Kirchgemeindehaus in Wädi.\nYasemin de
  Filippis leitet die Gruppe.\n\nWenn du gerne tanzt oder es lernen
  möchtest\, dann melde dich an!\nroundabout bietet Mädchen und jungen
  Frauen zwischen 12 und 20 Jahren ein günstiges Tanzangebot\, welches von
  einer professionellen Tanzlehrerin geleitet wird.\n\n\nHast du und deine
  Freundinnen Lust zusammen zu tanzen\, Zeit miteinander zu verbringen und
  dabei Spass zu haben? Dann melde Dich an!\n\nKontakt:
  simone.hauser@kirche-waedenswil.ch\n\nWeitere Infos:
  https://www.kirche-waedenswil.ch/veranstaltung/47039
SUMMARY:Roundabout Streetdance
PRIORITY:5
X-MICROSOFT-CDO-IMPORTANCE:1
CLASS:PUBLIC
END:VEVENT
END:VCALENDAR
