BEGIN:VCALENDAR
PRODID:-//kirchenweb.ch gmbh//veranstaltungsausgabe v2.0//DE
VERSION:2.0
METHOD:PUBLISH
BEGIN:VEVENT
DTSTART:20251214T100000Z
DTEND:20251214T120000Z
LOCATION:Kirchgemeindehaus Rosenmatt\, Gessnerweg 5\, 8820 Wädenswil
TRANSP:OPAQUE
SEQUENCE:0
UID:47033-veranstaltung@kirche-waedenswil.ch
DTSTAMP:20251210T103206Z
DESCRIPTION:Kontakt: Esther Mantel\, 079 660 51 68‬\n\nWeitere Infos:
  https://www.kirche-waedenswil.ch/veranstaltung/47033
SUMMARY:Kafiträff - Abschiedsanlass Margrith Jost
PRIORITY:5
X-MICROSOFT-CDO-IMPORTANCE:1
CLASS:PUBLIC
END:VEVENT
END:VCALENDAR
