BEGIN:VCALENDAR
PRODID:-//kirchenweb.ch gmbh//veranstaltungsausgabe v2.0//DE
VERSION:2.0
METHOD:PUBLISH
BEGIN:VEVENT
DTSTART:20251119T161500Z
DTEND:20251119T194500Z
LOCATION:Fraumünster\, \,
TRANSP:OPAQUE
SEQUENCE:0
UID:46997-veranstaltung@kirche-waedenswil.ch
DTSTAMP:20251020T085144Z
DESCRIPTION:Kontakt: Pfr. Christian Scharpf\, 078 622 00 28\n\nWeitere
  Infos: https://www.kirche-waedenswil.ch/veranstaltung/46997
SUMMARY:Konf im Evensong im Fraumünster
PRIORITY:5
X-MICROSOFT-CDO-IMPORTANCE:1
CLASS:PUBLIC
END:VEVENT
END:VCALENDAR
