BEGIN:VCALENDAR
PRODID:-//kirchenweb.ch gmbh//veranstaltungsausgabe v2.0//DE
VERSION:2.0
METHOD:PUBLISH
BEGIN:VEVENT
DTSTART:20261022T130000Z
DTEND:20261022T150000Z
LOCATION:Kirchgemeindehaus Rosenmatt\, Gessnerweg 5\, 8820 Wädenswil
TRANSP:OPAQUE
SEQUENCE:0
UID:46988-veranstaltung@kirche-waedenswil.ch
DTSTAMP:20260304T144128Z
DESCRIPTION:Auftanken zum Weitergehen \n\nDieser Treffpunkt findet zweimal
  im Jahr statt und soll den betreuenden Angehörigen\nermöglichen\, sich
  weiterhin auszutauschen und in Kontakt zu bleiben.\n\nVoraussetzung für
  den Besuch dieses Treffpunktes ist der Besuch des Kurses\n"Auftanken zum
  Weitergehen".\n\nDer Treffpunkt findet im Reformierten Kirchgemeindehaus
  Rosenmatt\, Gessnerweg 5\, in Wädenswil\nstatt.\n\nEine Anmeldung ist
  nicht erforderlich. \n\nAuf eine rege Teilnahme freuen sich:\n\nHeidi Hug
 \nlnfostelle Betreuung und Pflege\nStadt Wädenswil\nPetra Fischer
 \nSozialdiakonie\nRef. Kirchgemeinde\n\n\nKontakt: Petra Fischer\, 044 783
  00 52\n\nWeitere Infos:
  https://www.kirche-waedenswil.ch/veranstaltung/46988
SUMMARY:Treffpunkt für betreuende Angehörige - "Höck"
PRIORITY:5
X-MICROSOFT-CDO-IMPORTANCE:1
CLASS:PUBLIC
END:VEVENT
END:VCALENDAR
