BEGIN:VCALENDAR
PRODID:-//kirchenweb.ch gmbh//veranstaltungsausgabe v2.0//DE
VERSION:2.0
METHOD:PUBLISH
BEGIN:VEVENT
DTSTART:20260312T140000Z
DTEND:20260312T160000Z
LOCATION:Kirchgemeindehaus Rosenmatt\, Gessnerweg 5\, 8820 Wädenswil
TRANSP:OPAQUE
SEQUENCE:0
UID:46987-veranstaltung@kirche-waedenswil.ch
DTSTAMP:20260123T082007Z
DESCRIPTION:Kurs "Auftanken zum Weitergehen"\n\nZehntausende von Frauen
  und Männern in der Schweiz betreuen und pflegen ihre\nAngehörige zu
  Hause oder in einem Heim. Gehören auch Sie dazu? lm Kurs\n"Auftanken zum
  Weitergehen" bieten wir lhnen die Möglichkeit\, sich neues Wissen
 \nanzueignen\, andere betreuende Angehörige kennenzulernen\, sich
  auszutauschen\nund sich eine Auszeit vom anspruchsvollen Alltag zu
  nehmen.\n\nDer heutige Kurs beinhaltet folgendes Thema:\n- Abschied /
  Trauer\n\nFür die Teilnahme und eine allfällige Betreuung lhrer
  Angehörigen benötigen wir eine\nAnmeldung bis am 12. Januar 2026.\n
 \nDer Kurs "Auftanken zum Weitergehen" findet im\nReformierten
  Kirchgemeindehaus Rosenmatt\nGessnenveg 5 in Wädenswil\nstatt.\n\n
 \nKontakt: Petra Fischer\, 044 783 00 52\n\nWeitere Infos:
  https://www.kirche-waedenswil.ch/veranstaltung/46987
SUMMARY:Treffpunkt für betreuende Angehörige
PRIORITY:5
X-MICROSOFT-CDO-IMPORTANCE:1
CLASS:PUBLIC
END:VEVENT
END:VCALENDAR
