BEGIN:VCALENDAR
PRODID:-//kirchenweb.ch gmbh//veranstaltungsausgabe v2.0//DE
VERSION:2.0
METHOD:PUBLISH
BEGIN:VEVENT
DTSTART:20260109T180000Z
DTEND:20260109T203000Z
LOCATION:Kirchgemeindehaus Rosenmatt\, Gessnerweg 5\, 8820 Wädenswil
TRANSP:OPAQUE
SEQUENCE:0
UID:46951-veranstaltung@kirche-waedenswil.ch
DTSTAMP:20260109T140937Z
DESCRIPTION:Hallo! Schön\, dass du dich für den
  Frauegrüppli-Kleidertausch interessierst!\nWir wünschen uns einen
  friedlichen Abend\, der Gelegenheit bietet\, Kleidungsstücke statt
  wegzuwerfen oder im Schrank hängen zu lassen\, neu an die Frau zu
  bringen.\n\nWie funktioniert's?\nMelde dich gleich hier an!\nBring
  maximal 20 gut erhaltene\, fleckenfreie Kleidungsstücke (keine Kinder-
  und Herrenkleider!) mit. \nHänge sie an den bereitstehenden
  Kleiderständern auf.\nUnd finde dann vielleicht auch neue Hosen\, Shirts
  etc. für dich.\n\nFreitag\, 9. Januar\, 19.00 bis 21.30 Uhr
 \nReformiertes Kirchgemeindehaus \nGessnerweg 5\n\nWichtig:\nKein Geld!
 \nKein Stress!\nNur mit Anmeldung!\n\nKontakt: \nSalome Probst\, 079 324
  97 79\nNaomi Grisoni\, 078 850 69 19\n\nWir freuen uns auf dich!\n\n\n\n
 \nKontakt: Pfrn. Salome Probst\, 079 324 97 79\n\nWeitere Infos:
  https://www.kirche-waedenswil.ch/veranstaltung/46951
SUMMARY:Frauegrüppli: Kleidertausch
PRIORITY:5
X-MICROSOFT-CDO-IMPORTANCE:1
CLASS:PUBLIC
END:VEVENT
END:VCALENDAR
