BEGIN:VCALENDAR
PRODID:-//kirchenweb.ch gmbh//veranstaltungsausgabe v2.0//DE
VERSION:2.0
METHOD:PUBLISH
BEGIN:VEVENT
DTSTART:20260716T080000Z
DTEND:20260716T090000Z
LOCATION:Alterszentrum Frohmatt\, Bürgerheimstr. 8-12\, 8820 Wädenswil
TRANSP:OPAQUE
SEQUENCE:0
UID:46875-veranstaltung@kirche-waedenswil.ch
DTSTAMP:20251103T091532Z
DESCRIPTION:Kontakt: Pfr. Erich Bosshard-Nepustil\, 079 530 40 24\n
 \nWeitere Infos: https://www.kirche-waedenswil.ch/veranstaltung/46875
SUMMARY:Gottesdienst Frohmatt
PRIORITY:5
X-MICROSOFT-CDO-IMPORTANCE:1
CLASS:PUBLIC
END:VEVENT
END:VCALENDAR
