BEGIN:VCALENDAR
PRODID:-//kirchenweb.ch gmbh//veranstaltungsausgabe v2.0//DE
VERSION:2.0
METHOD:PUBLISH
BEGIN:VEVENT
DTSTART:20260607T070000Z
DTEND:20260607T080000Z
LOCATION:Kirche\, Schönenbergstr. 9\, 8820 Wädenswil
TRANSP:OPAQUE
SEQUENCE:0
UID:46746-veranstaltung@kirche-waedenswil.ch
DTSTAMP:20260314T155541Z
DESCRIPTION:Ab cirka 9 Uhr gibt es vor der Kirche Kaffee und Zopf für
  alle Gottesdienstbesuchenden. Bei nassem Wetter im Foyer und im kleinen
  Saal des Kirchgemeindehauses.\n\nKontakt: Esther Mantel\, 079 660 51
  68‬\n\nWeitere Infos:
  https://www.kirche-waedenswil.ch/veranstaltung/46746
SUMMARY:Kafiträff VOR dem Konfirmations-Gottesdienst
PRIORITY:5
X-MICROSOFT-CDO-IMPORTANCE:1
CLASS:PUBLIC
END:VEVENT
END:VCALENDAR
