BEGIN:VCALENDAR
PRODID:-//kirchenweb.ch gmbh//veranstaltungsausgabe v2.0//DE
VERSION:2.0
METHOD:PUBLISH
BEGIN:VEVENT
DTSTART:20260531T070000Z
DTEND:20260531T080000Z
LOCATION:Kirche\, Schönenbergstr. 9\, 8820 Wädenswil
TRANSP:OPAQUE
SEQUENCE:0
UID:46745-veranstaltung@kirche-waedenswil.ch
DTSTAMP:20260313T125457Z
DESCRIPTION:Ab cirka 9 Uhr gibt es vor der Kirche Kaffee und Zopf für
  alle Gottesdienstbesuchenden.\nBei nassem Wetter im Foyer des
  Kirchgemeindehauses.\n\nKontakt: Esther Mantel\, 079 660 51 68‬\n
 \nWeitere Infos: https://www.kirche-waedenswil.ch/veranstaltung/46745
SUMMARY:Kafiträff VOR dem Konfirmations-Gottesdienst
PRIORITY:5
X-MICROSOFT-CDO-IMPORTANCE:1
CLASS:PUBLIC
END:VEVENT
END:VCALENDAR
