BEGIN:VCALENDAR
PRODID:-//kirchenweb.ch gmbh//veranstaltungsausgabe v2.0//DE
VERSION:2.0
METHOD:PUBLISH
BEGIN:VEVENT
DTSTART:20260113T173000Z
DTEND:20260113T210000Z
LOCATION:Bergwerk Käpfnach\, \,
TRANSP:OPAQUE
SEQUENCE:0
UID:46742-veranstaltung@kirche-waedenswil.ch
DTSTAMP:20251023T135816Z
DESCRIPTION:Im https://www.bergwerk-kaepfnach.ch/ wurde bis 1947 Kohle
  abgebaut: Mühsam\, wenig ertragreich\, aber mit einem spektakulär
  weitläufigen Stollennetz\, welches sich unter halb Horgen ausspannte.\n
 \nWir werden nach einem spannenden Referat den Helm aufsetzen\, mit der
  Stollenbahn einfahren\, sehen und riechen\, wie die Kohle abgebaut und
  transportiert wurde. Auch von den Herausforderungen und Gefahren beim
  Stollenbau werden wir hören und von der (ziemlich kleinen)
  Wirtschaftlichkeit des Kohleabbaus.\n\nEin spannender Zug durch
  Bergbaugeschichte in nächster Nähe!\n\nWer mag\, kommt anschliessend
  noch in die Engelbar auf einen Trunk.\n\n***\nAbfahrt: 1834 Bus 121 nach
  Horgen Käpfnach (an 1849)\nRückkehr entweder 2137 oder 2155.\nBillet
  Horgen-retour bitte selbständig lösen.\n\n***\n\nKosten und Anmeldung:
 \nCHF 25.- / Person.\nAnmeldung gilt\, sobald die 25.- bezahlt sind (Twint
  auf 078 626 00 18 Frank Lehmann\, Stichwort Käpfnach+Dein Name)\nUnd:
  Anmeldung bitte auch hier auf dem Formular.\n\nPlatzzahl max. 20
  Personen.\n\n***\n\nAusrüstung:\nGute Schuhe\, Jacke\, ev. Taschenlampe
 \n\nKontakt: Pfr. Frank Lehmann\, 078 626 00 18\n\nWeitere Infos:
  https://www.kirche-waedenswil.ch/veranstaltung/46742
SUMMARY:Männerschweiss - Bergwerk Käpfnach
PRIORITY:5
X-MICROSOFT-CDO-IMPORTANCE:1
CLASS:PUBLIC
END:VEVENT
END:VCALENDAR
