BEGIN:VCALENDAR
PRODID:-//kirchenweb.ch gmbh//veranstaltungsausgabe v2.0//DE
VERSION:2.0
METHOD:PUBLISH
BEGIN:VEVENT
DTSTART:20261025T100000Z
DTEND:20261025T111500Z
LOCATION:Kirche\, Schönenbergstr. 9\, 8820 Wädenswil
TRANSP:OPAQUE
SEQUENCE:0
UID:46732-veranstaltung@kirche-waedenswil.ch
DTSTAMP:20250911T082054Z
DESCRIPTION:Anschliessend an den Gottesdienst sind Sie herzlich zu Kaffee
  und Zopf eingeladen. \nIm Winterhalbjahr treffen wir uns in der alten
  Bibliothek gleich neben der Kirche.\n\nKontakt:
  esther.mantel@kirche-waedenswil.ch\n\nWeitere Infos:
  https://www.kirche-waedenswil.ch/veranstaltung/46732
SUMMARY:Kafiträff nach dem Gottesdienst
PRIORITY:5
X-MICROSOFT-CDO-IMPORTANCE:1
CLASS:PUBLIC
END:VEVENT
END:VCALENDAR
