BEGIN:VCALENDAR
PRODID:-//kirchenweb.ch gmbh//veranstaltungsausgabe v2.0//DE
VERSION:2.0
METHOD:PUBLISH
BEGIN:VEVENT
DTSTART:20261018T090000Z
DTEND:20261018T100000Z
LOCATION:Kirche\, Schönenbergstr. 9\, 8820 Wädenswil
TRANSP:OPAQUE
SEQUENCE:0
UID:46731-veranstaltung@kirche-waedenswil.ch
DTSTAMP:20250911T082030Z
DESCRIPTION:Nach dem Gottesdienst findet ein Kafiträff an der WunderBar
  statt. Sie sind herzlich dazu eingeladen.\n\nKontakt: Esther Mantel\n
 \nWeitere Infos: https://www.kirche-waedenswil.ch/veranstaltung/46731
SUMMARY:Kafiträff an der WunderBar
PRIORITY:5
X-MICROSOFT-CDO-IMPORTANCE:1
CLASS:PUBLIC
END:VEVENT
END:VCALENDAR
