BEGIN:VCALENDAR
PRODID:-//kirchenweb.ch gmbh//veranstaltungsausgabe v2.0//DE
VERSION:2.0
METHOD:PUBLISH
BEGIN:VEVENT
DTSTART:20251111T170000Z
DTEND:20251111T200000Z
LOCATION:Unterwegs\, \,
TRANSP:OPAQUE
SEQUENCE:0
UID:46678-veranstaltung@kirche-waedenswil.ch
DTSTAMP:20251211T150323Z
DESCRIPTION:Wir machen eine leichte Wanderung auf den Etzel und etwas
  rundherum. Zeit zum Plaudern und für  Speis und Trank auf dem Weg.\n
 \nAnmeldung bitte via Formular weiter unten.\n\nKontakt: Pfr. Frank
  Lehmann\, 044 780 33 55\n\nWeitere Infos:
  https://www.kirche-waedenswil.ch/veranstaltung/46678
SUMMARY:Männerschweiss - Abend-Wanderung
PRIORITY:5
X-MICROSOFT-CDO-IMPORTANCE:1
CLASS:PUBLIC
END:VEVENT
END:VCALENDAR
