BEGIN:VCALENDAR
PRODID:-//kirchenweb.ch gmbh//veranstaltungsausgabe v2.0//DE
VERSION:2.0
METHOD:PUBLISH
BEGIN:VEVENT
DTSTART:20251209T170000Z
DTEND:20251209T200000Z
LOCATION:Unterwegs\, \,
TRANSP:OPAQUE
SEQUENCE:0
UID:46677-veranstaltung@kirche-waedenswil.ch
DTSTAMP:20251111T085229Z
DESCRIPTION:Wir machen einen Abendwanderspaziergang. Vielleicht wird es
  schon total winterlich\, vielleicht auch einfach kühl sein. Auf jeden
  Fall gibt es am Feuer eine feine Chlausensuppe plus. Und es könnte auch
  etwas länger als bis 21 Uhr dauern!\n\nAnmeldung bitte via Formular
  weiter unten.\n\nKontakt: Pfr. Frank Lehmann\, 044 780 33 55\n\nWeitere
  Infos: https://www.kirche-waedenswil.ch/veranstaltung/46677
SUMMARY:Männerschweiss - Abend-Wanderung mit Chlausensuppe
PRIORITY:5
X-MICROSOFT-CDO-IMPORTANCE:1
CLASS:PUBLIC
END:VEVENT
END:VCALENDAR
